BEGIN:VCALENDAR
VERSION:2.0
PRODID:-//Ullna koloniträdgårds­förening - ECPv6.5.0//NONSGML v1.0//EN
CALSCALE:GREGORIAN
METHOD:PUBLISH
X-WR-CALNAME:Ullna koloniträdgårds­förening
X-ORIGINAL-URL:https://ullna.com
X-WR-CALDESC:Events for Ullna koloniträdgårds­förening
REFRESH-INTERVAL;VALUE=DURATION:PT1H
X-Robots-Tag:noindex
X-PUBLISHED-TTL:PT1H
BEGIN:VTIMEZONE
TZID:Europe/Stockholm
BEGIN:DAYLIGHT
TZOFFSETFROM:+0100
TZOFFSETTO:+0200
TZNAME:CEST
DTSTART:20250330T010000
END:DAYLIGHT
BEGIN:STANDARD
TZOFFSETFROM:+0200
TZOFFSETTO:+0100
TZNAME:CET
DTSTART:20251026T010000
END:STANDARD
END:VTIMEZONE
BEGIN:VEVENT
DTSTART;TZID=Europe/Stockholm:20250802T140000
DTEND;TZID=Europe/Stockholm:20250802T170000
DTSTAMP:20260421T221843
CREATED:20250509T073910Z
LAST-MODIFIED:20250509T073910Z
UID:2297-1754143200-1754154000@ullna.com
SUMMARY:Vrålfika på norra
DESCRIPTION:
URL:https://ullna.com/event/vralfika-pa-norra-2/
LOCATION:Norras allmänning
END:VEVENT
BEGIN:VEVENT
DTSTART;TZID=Europe/Stockholm:20250809T170000
DTEND;TZID=Europe/Stockholm:20250809T233000
DTSTAMP:20260421T221843
CREATED:20250509T074005Z
LAST-MODIFIED:20250509T074005Z
UID:2300-1754758800-1754782200@ullna.com
SUMMARY:Kräftskiva på södra
DESCRIPTION:
URL:https://ullna.com/event/kraftskiva-pa-sodra-2/
LOCATION:Södras allmänning
END:VEVENT
BEGIN:VEVENT
DTSTART;TZID=Europe/Stockholm:20250823T170000
DTEND;TZID=Europe/Stockholm:20250823T233000
DTSTAMP:20260421T221843
CREATED:20250509T074100Z
LAST-MODIFIED:20250509T074100Z
UID:2302-1755968400-1755991800@ullna.com
SUMMARY:Surströmming på norra
DESCRIPTION:
URL:https://ullna.com/event/surstromming-pa-norra/
LOCATION:Norras allmänning
END:VEVENT
END:VCALENDAR