BEGIN:VCALENDAR
VERSION:2.0
PRODID:-//Ullna koloniträdgårds­förening - ECPv6.5.0//NONSGML v1.0//EN
CALSCALE:GREGORIAN
METHOD:PUBLISH
X-ORIGINAL-URL:https://ullna.com
X-WR-CALDESC:Events for Ullna koloniträdgårds­förening
REFRESH-INTERVAL;VALUE=DURATION:PT1H
X-Robots-Tag:noindex
X-PUBLISHED-TTL:PT1H
BEGIN:VTIMEZONE
TZID:Europe/Stockholm
BEGIN:DAYLIGHT
TZOFFSETFROM:+0100
TZOFFSETTO:+0200
TZNAME:CEST
DTSTART:20250330T010000
END:DAYLIGHT
BEGIN:STANDARD
TZOFFSETFROM:+0200
TZOFFSETTO:+0100
TZNAME:CET
DTSTART:20251026T010000
END:STANDARD
END:VTIMEZONE
BEGIN:VEVENT
DTSTART;TZID=Europe/Stockholm:20250504T103000
DTEND;TZID=Europe/Stockholm:20250504T133000
DTSTAMP:20260422T133124
CREATED:20241122T163327Z
LAST-MODIFIED:20241122T164827Z
UID:2239-1746354600-1746365400@ullna.com
SUMMARY:Arbetsdag på Ullna
DESCRIPTION:Samling klockan 10.30 vid servicehusen då närvarolistan skrivs på och arbetsuppgifter delas ut. \nUnder arbetsdagarna utförs arbeten på allmänna ytor\, t ex som att klippa allmänningarna\, rensa diken\, måla etc.
URL:https://ullna.com/event/arbetsdag-12/
END:VEVENT
BEGIN:VEVENT
DTSTART;TZID=Europe/Stockholm:20250531T140000
DTEND;TZID=Europe/Stockholm:20250531T170000
DTSTAMP:20260422T133124
CREATED:20250509T073135Z
LAST-MODIFIED:20250509T073325Z
UID:2287-1748700000-1748710800@ullna.com
SUMMARY:Loppis på norra
DESCRIPTION:
URL:https://ullna.com/event/loppis-pa-norra/
LOCATION:Norras allmänning
END:VEVENT
END:VCALENDAR