BEGIN:VCALENDAR
VERSION:2.0
PRODID:-//Ullna koloniträdgårds­förening - ECPv6.5.0//NONSGML v1.0//EN
CALSCALE:GREGORIAN
METHOD:PUBLISH
X-WR-CALNAME:Ullna koloniträdgårds­förening
X-ORIGINAL-URL:https://ullna.com
X-WR-CALDESC:Events for Ullna koloniträdgårds­förening
REFRESH-INTERVAL;VALUE=DURATION:PT1H
X-Robots-Tag:noindex
X-PUBLISHED-TTL:PT1H
BEGIN:VTIMEZONE
TZID:Europe/Stockholm
BEGIN:DAYLIGHT
TZOFFSETFROM:+0100
TZOFFSETTO:+0200
TZNAME:CEST
DTSTART:20240331T010000
END:DAYLIGHT
BEGIN:STANDARD
TZOFFSETFROM:+0200
TZOFFSETTO:+0100
TZNAME:CET
DTSTART:20241027T010000
END:STANDARD
END:VTIMEZONE
BEGIN:VEVENT
DTSTART;TZID=Europe/Stockholm:20240505T103000
DTEND;TZID=Europe/Stockholm:20240505T133000
DTSTAMP:20260424T232905
CREATED:20240228T154238Z
LAST-MODIFIED:20240228T154238Z
UID:2090-1714905000-1714915800@ullna.com
SUMMARY:Arbetsdag
DESCRIPTION:Samling klockan 10.30 vid servicehusen då närvarolistan skrivs på och arbetsuppgifter delas ut. \nUnder arbetsdagarna utförs arbeten på allmänna ytor\, t ex som att klippa allmänningarna\, rensa diken\, måla etc.
URL:https://ullna.com/event/arbetsdag-9/
END:VEVENT
END:VCALENDAR