BEGIN:VCALENDAR
VERSION:2.0
PRODID:-//Ullna koloniträdgårds­förening - ECPv6.5.0//NONSGML v1.0//EN
CALSCALE:GREGORIAN
METHOD:PUBLISH
X-WR-CALNAME:Ullna koloniträdgårds­förening
X-ORIGINAL-URL:https://ullna.com
X-WR-CALDESC:Events for Ullna koloniträdgårds­förening
REFRESH-INTERVAL;VALUE=DURATION:PT1H
X-Robots-Tag:noindex
X-PUBLISHED-TTL:PT1H
BEGIN:VTIMEZONE
TZID:Europe/Stockholm
BEGIN:DAYLIGHT
TZOFFSETFROM:+0100
TZOFFSETTO:+0200
TZNAME:CEST
DTSTART:20260329T010000
END:DAYLIGHT
BEGIN:STANDARD
TZOFFSETFROM:+0200
TZOFFSETTO:+0100
TZNAME:CET
DTSTART:20261025T010000
END:STANDARD
END:VTIMEZONE
BEGIN:VEVENT
DTSTART;VALUE=DATE:20260412
DTEND;VALUE=DATE:20260414
DTSTAMP:20260421T183050
CREATED:20260323T104053Z
LAST-MODIFIED:20260323T104053Z
UID:2366-1775959200-1776045599@ullna.com
SUMMARY:Vattnet slås på
DESCRIPTION:Om allt går enligt plan så slås både sjövatten och dricksvatten på någon gång under söndagen den 12 april (på både södra och norra sidan). \nObservera att tiden kan komma att senareläggas om det är för kallt i marken.
URL:https://ullna.com/event/vattnet-slas-pa-2/
END:VEVENT
BEGIN:VEVENT
DTSTART;TZID=Europe/Stockholm:20260503T103000
DTEND;TZID=Europe/Stockholm:20260503T133000
DTSTAMP:20260421T183050
CREATED:20260421T135424Z
LAST-MODIFIED:20260421T135424Z
UID:2385-1777804200-1777815000@ullna.com
SUMMARY:Arbetsdag på Ullna
DESCRIPTION:Samling klockan 10.30 vid servicehusen då närvarolistan skrivs på och arbetsuppgifter delas ut. \nUnder arbetsdagarna utförs arbeten på allmänna ytor\, t ex som att klippa allmänningarna\, rensa diken\, måla etc.
URL:https://ullna.com/event/arbetsdag-pa-ullna/
END:VEVENT
BEGIN:VEVENT
DTSTART;TZID=Europe/Stockholm:20260604T103000
DTEND;TZID=Europe/Stockholm:20260604T133000
DTSTAMP:20260421T183050
CREATED:20260421T141211Z
LAST-MODIFIED:20260421T141211Z
UID:2390-1780569000-1780579800@ullna.com
SUMMARY:Arbetsdag på Ullna
DESCRIPTION:Samling klockan 10.30 vid servicehusen då närvarolistan skrivs på och arbetsuppgifter delas ut. \nUnder arbetsdagarna utförs arbeten på allmänna ytor\, t ex som att klippa allmänningarna\, rensa diken\, måla etc.
URL:https://ullna.com/event/arbetsdag-pa-ullna-2/
END:VEVENT
BEGIN:VEVENT
DTSTART;TZID=Europe/Stockholm:20260927T103000
DTEND;TZID=Europe/Stockholm:20260927T133000
DTSTAMP:20260421T183050
CREATED:20260421T141430Z
LAST-MODIFIED:20260421T141430Z
UID:2392-1790505000-1790515800@ullna.com
SUMMARY:Arbetsdag på Ullna
DESCRIPTION:Samling klockan 10.30 vid servicehusen då närvarolistan skrivs på och arbetsuppgifter delas ut. \nUnder arbetsdagarna utförs arbeten på allmänna ytor\, t ex som att klippa allmänningarna\, rensa diken\, måla etc.
URL:https://ullna.com/event/arbetsdag-pa-ullna-3/
END:VEVENT
END:VCALENDAR