BEGIN:VCALENDAR
VERSION:2.0
PRODID:-//Ullna koloniträdgårds­förening - ECPv6.5.0//NONSGML v1.0//EN
CALSCALE:GREGORIAN
METHOD:PUBLISH
X-WR-CALNAME:Ullna koloniträdgårds­förening
X-ORIGINAL-URL:https://ullna.com
X-WR-CALDESC:Events for Ullna koloniträdgårds­förening
REFRESH-INTERVAL;VALUE=DURATION:PT1H
X-Robots-Tag:noindex
X-PUBLISHED-TTL:PT1H
BEGIN:VTIMEZONE
TZID:Europe/Stockholm
BEGIN:DAYLIGHT
TZOFFSETFROM:+0100
TZOFFSETTO:+0200
TZNAME:CEST
DTSTART:20240331T010000
END:DAYLIGHT
BEGIN:STANDARD
TZOFFSETFROM:+0200
TZOFFSETTO:+0100
TZNAME:CET
DTSTART:20241027T010000
END:STANDARD
END:VTIMEZONE
BEGIN:VEVENT
DTSTART;TZID=Europe/Stockholm:20240824T170000
DTEND;TZID=Europe/Stockholm:20240824T230000
DTSTAMP:20260422T201146
CREATED:20240705T195949Z
LAST-MODIFIED:20240705T195949Z
UID:2194-1724518800-1724540400@ullna.com
SUMMARY:Surströmmingsskiva på norra
DESCRIPTION:Egen dryck medtages. Surströmming med tillbehör till självkostnadspris.
URL:https://ullna.com/event/surstrommingsskiva-pa-norra/
END:VEVENT
END:VCALENDAR